BEGIN:VCALENDAR
VERSION:2.0
PRODID:-//Plone.org//NONSGML plone.app.event//EN
X-WR-TIMEZONE:Europe/Paris
BEGIN:VEVENT
SUMMARY:Catéchisme du CE2 à la 6ème à Saint-Bris-le-Vineux
DTSTART;TZID=Europe/Paris;VALUE=DATE-TIME:20260425T170000
DTEND;TZID=Europe/Paris;VALUE=DATE-TIME:20260425T180000
DTSTAMP;VALUE=DATE-TIME:20260420T010207Z
UID:40c1f6b6996f48a9b083beff5bcffeab@www.yonne.catholique.fr
RRULE:FREQ=WEEKLY;UNTIL=20260704T000000;INTERVAL=2;BYDAY=SA
RDATE;TZID=Europe/Paris:20251219T000000,20260402T000000,20260704T000000
EXDATE;TZID=Europe/Paris:20251220T000000,20260103T000000,20260214T000000,2
 0260411T000000,20260718T000000,20260801T000000
CREATED;VALUE=DATE-TIME:20251013T180037Z
DESCRIPTION:Les samedis à 17h suivi de la messe à 18h30
LAST-MODIFIED;VALUE=DATE-TIME:20260411T191337Z
URL:https://www.yonne.catholique.fr/saint-edme-saint-vincent/actualite-par
 oissiale/agenda/catechisme-du-ce2-a-la-6eme-a-saint-bris-le-vineux
END:VEVENT
BEGIN:VTIMEZONE
TZID:Europe/Paris
X-LIC-LOCATION:Europe/Paris
BEGIN:DAYLIGHT
DTSTART;VALUE=DATE-TIME:20260329T030000
TZNAME:CEST
TZOFFSETFROM:+0100
TZOFFSETTO:+0200
END:DAYLIGHT
END:VTIMEZONE
END:VCALENDAR
