BEGIN:VCALENDAR
VERSION:2.0
PRODID:-//Plone.org//NONSGML plone.app.event//EN
X-WR-TIMEZONE:Europe/Paris
BEGIN:VEVENT
SUMMARY:Chapelet et intercession à Bleigny-le-Carreau
DTSTART;TZID=Europe/Paris;VALUE=DATE-TIME:20260526T183000
DTEND;TZID=Europe/Paris;VALUE=DATE-TIME:20260526T193000
DTSTAMP;VALUE=DATE-TIME:20260421T045959Z
UID:b0160bac360b4cca894d0a85eef4fc87@www.yonne.catholique.fr
CONTACT:06 33 79 37 47
CREATED;VALUE=DATE-TIME:20250915T115353Z
DESCRIPTION:Jeudi 23 avril.\nJeudi 7 mai\, mardis 19 mai et 26 mai.\nJeudi
 s 4\, 11 et 25 juin.\n\nComme d'habitude à 18h30 à l'église.
LAST-MODIFIED;VALUE=DATE-TIME:20260420T084237Z
URL:https://www.yonne.catholique.fr/saint-edme-saint-vincent/actualite-par
 oissiale/agenda/chapelet-et-intercession-a-bleigny-le-carreau/2026-05-26
END:VEVENT
BEGIN:VTIMEZONE
TZID:Europe/Paris
X-LIC-LOCATION:Europe/Paris
BEGIN:DAYLIGHT
DTSTART;VALUE=DATE-TIME:20260329T030000
TZNAME:CEST
TZOFFSETFROM:+0100
TZOFFSETTO:+0200
END:DAYLIGHT
END:VTIMEZONE
END:VCALENDAR
