BEGIN:VCALENDAR
VERSION:2.0
PRODID:-//Plone.org//NONSGML plone.app.event//EN
X-WR-TIMEZONE:Europe/Paris
BEGIN:VEVENT
SUMMARY:Fête de saint-Robert de Molesmes
DTSTART;TZID=Europe/Paris;VALUE=DATE-TIME:20260428T180000
DTSTAMP;VALUE=DATE-TIME:20260424T151307Z
UID:4219c0792e1d4e54bd1409fc82b383e2@www.yonne.catholique.fr
CONTACT:Paroisse Saint-Edme et Saint-Vincent
CREATED;VALUE=DATE-TIME:20260421T103435Z
DESCRIPTION:La paroisse Saint-Edme et Saint-Vincent fête Saint-Robert de 
 Molesme (fondateur de Citeaux) à quelques jours de l'anniversaire de son 
 décès (17 avril). \nNous nous retrouverons à Collan et nous cheminerons
  sur le lieu de son ermitage dans la forêt.
LAST-MODIFIED;VALUE=DATE-TIME:20260421T104018Z
LOCATION:Collan
URL:https://www.yonne.catholique.fr/saint-edme-saint-vincent/actualite-par
 oissiale/agenda/fete-de-saint-robert-de-molesmes
END:VEVENT
BEGIN:VTIMEZONE
TZID:Europe/Paris
X-LIC-LOCATION:Europe/Paris
BEGIN:DAYLIGHT
DTSTART;VALUE=DATE-TIME:20260329T030000
TZNAME:CEST
TZOFFSETFROM:+0100
TZOFFSETTO:+0200
END:DAYLIGHT
END:VTIMEZONE
END:VCALENDAR
