BEGIN:VCALENDAR
VERSION:2.0
PRODID:-//Plone.org//NONSGML plone.app.event//EN
X-WR-TIMEZONE:Europe/Paris
BEGIN:VEVENT
SUMMARY:Intercession et adoration du Saint-Sacrement à Chablis
DTSTART;TZID=Europe/Paris;VALUE=DATE-TIME:20260709T183000
DTEND;TZID=Europe/Paris;VALUE=DATE-TIME:20260709T193000
DTSTAMP;VALUE=DATE-TIME:20260420T124350Z
UID:75f9128e94b447779f00431d68c577f0@www.yonne.catholique.fr
CREATED;VALUE=DATE-TIME:20250915T113055Z
LAST-MODIFIED;VALUE=DATE-TIME:20260413T135056Z
LOCATION:Eglise de Chablis
URL:https://www.yonne.catholique.fr/saint-edme-saint-vincent/actualite-par
 oissiale/agenda/intercession-et-adoration-du-saint-sacrement/2026-07-09
END:VEVENT
BEGIN:VTIMEZONE
TZID:Europe/Paris
X-LIC-LOCATION:Europe/Paris
BEGIN:DAYLIGHT
DTSTART;VALUE=DATE-TIME:20260329T030000
TZNAME:CEST
TZOFFSETFROM:+0100
TZOFFSETTO:+0200
END:DAYLIGHT
END:VTIMEZONE
END:VCALENDAR
