BEGIN:VCALENDAR
VERSION:2.0
PRODID:-//Plone.org//NONSGML plone.app.event//EN
X-WR-TIMEZONE:Europe/Paris
BEGIN:VEVENT
SUMMARY:Messe à la maison de retraite de Ligny-le-Châtel
DTSTART;TZID=Europe/Paris;VALUE=DATE-TIME:20260609T170000
DTEND;TZID=Europe/Paris;VALUE=DATE-TIME:20260609T180000
DTSTAMP;VALUE=DATE-TIME:20260422T163102Z
UID:777401d64f084737b437349050f90151@www.yonne.catholique.fr
CREATED;VALUE=DATE-TIME:20250915T082834Z
LAST-MODIFIED;VALUE=DATE-TIME:20260420T090812Z
LOCATION:Maison de retraite Gaston Houssier de Ligny-le-Châtel\, 8 rue re
 ine de Sicile
URL:https://www.yonne.catholique.fr/saint-edme-saint-vincent/actualite-par
 oissiale/agenda/messe-a-la-maison-de-retraite-de-ligny-le-chatel-1/2026-06
 -09
END:VEVENT
BEGIN:VTIMEZONE
TZID:Europe/Paris
X-LIC-LOCATION:Europe/Paris
BEGIN:DAYLIGHT
DTSTART;VALUE=DATE-TIME:20260329T030000
TZNAME:CEST
TZOFFSETFROM:+0100
TZOFFSETTO:+0200
END:DAYLIGHT
END:VTIMEZONE
END:VCALENDAR
