BEGIN:VCALENDAR
VERSION:2.0
PRODID:-//Plone.org//NONSGML plone.app.event//EN
X-WR-TIMEZONE:Europe/Paris
BEGIN:VEVENT
SUMMARY:Partage biblique à Ligny et à Chablis une fois par mois
DTSTART;TZID=Europe/Paris;VALUE=DATE-TIME:20260520T153000
DTEND;TZID=Europe/Paris;VALUE=DATE-TIME:20260520T163000
DTSTAMP;VALUE=DATE-TIME:20260421T031944Z
UID:28ecc78b43844d8d93ae50af5745cb3f@www.yonne.catholique.fr
CREATED;VALUE=DATE-TIME:20250915T084628Z
DESCRIPTION:A Chablis à 19h00 les 1ers mardis du mois (5 mai et 2 juin 20
 26) à la Salle paroissiale\, 13 rue Benjamin Constant.\n\nA Ligny à 15h3
 0 les 3ème mercredis du mois (20 mai et 17 juin 2026)\, 2 rue Maison-Dieu
 .
LAST-MODIFIED;VALUE=DATE-TIME:20260420T090424Z
LOCATION:Presbytère de Ligny\, 2 rue Maison Dieu et Salle paroissiale\, 1
 3 rue Benjamin Constant à Chablis
URL:https://www.yonne.catholique.fr/saint-edme-saint-vincent/actualite-par
 oissiale/agenda/partage-biblique-a-pontigny-1/2026-05-20
END:VEVENT
BEGIN:VTIMEZONE
TZID:Europe/Paris
X-LIC-LOCATION:Europe/Paris
BEGIN:DAYLIGHT
DTSTART;VALUE=DATE-TIME:20260329T030000
TZNAME:CEST
TZOFFSETFROM:+0100
TZOFFSETTO:+0200
END:DAYLIGHT
END:VTIMEZONE
END:VCALENDAR
