BEGIN:VCALENDAR
VERSION:2.0
PRODID:-//Plone.org//NONSGML plone.app.event//EN
X-WR-TIMEZONE:Europe/Paris
BEGIN:VEVENT
SUMMARY:Rencontres de caté à Saint-Bris-le-Vineux\, du CE2 à la 6è
DTSTART;TZID=Europe/Paris;VALUE=DATE-TIME:20260704T170000
DTEND;TZID=Europe/Paris;VALUE=DATE-TIME:20260704T180000
DTSTAMP;VALUE=DATE-TIME:20260420T030346Z
UID:59ed53ff0aee4e76a1f8daeea5a0a5aa@www.yonne.catholique.fr
CREATED;VALUE=DATE-TIME:20250915T092425Z
LAST-MODIFIED;VALUE=DATE-TIME:20260411T191901Z
URL:https://www.yonne.catholique.fr/saint-edme-saint-vincent/actualite-par
 oissiale/agenda/rencontres-de-cate-a-saint-bris-le-vineux/2026-07-04
END:VEVENT
BEGIN:VTIMEZONE
TZID:Europe/Paris
X-LIC-LOCATION:Europe/Paris
BEGIN:DAYLIGHT
DTSTART;VALUE=DATE-TIME:20260329T030000
TZNAME:CEST
TZOFFSETFROM:+0100
TZOFFSETTO:+0200
END:DAYLIGHT
END:VTIMEZONE
END:VCALENDAR
