BEGIN:VCALENDAR
VERSION:2.0
PRODID:-//Plone.org//NONSGML plone.app.event//EN
X-WR-TIMEZONE:Europe/Paris
BEGIN:VEVENT
SUMMARY:Samedi Caté
DTSTART;TZID=Europe/Paris;VALUE=DATE-TIME:20250525T093000
DTEND;TZID=Europe/Paris;VALUE=DATE-TIME:20250525T123000
DTSTAMP;VALUE=DATE-TIME:20260424T140409Z
UID:c8bfd6849525455f8a2dec7d45e24ade@www.yonne.catholique.fr
CONTACT:Jérôme Pinot\, 0614378225\, kt.avallonnais@gmail.com
CREATED;VALUE=DATE-TIME:20250416T092635Z
LAST-MODIFIED;VALUE=DATE-TIME:20250416T092734Z
LOCATION:Maison paroissiale d'Avallon
URL:https://www.yonne.catholique.fr/saint-francois-vezelien/vie-paroissial
 e/agenda/copy3_of_samedi-cate-11
END:VEVENT
BEGIN:VTIMEZONE
TZID:Europe/Paris
X-LIC-LOCATION:Europe/Paris
BEGIN:DAYLIGHT
DTSTART;VALUE=DATE-TIME:20250330T030000
TZNAME:CEST
TZOFFSETFROM:+0100
TZOFFSETTO:+0200
END:DAYLIGHT
END:VTIMEZONE
END:VCALENDAR
