BEGIN:VCALENDAR
VERSION:2.0
PRODID:-//Plone.org//NONSGML plone.app.event//EN
X-WR-TIMEZONE:Europe/Paris
BEGIN:VEVENT
SUMMARY:Journée de la Création
DTSTART;TZID=Europe/Vienna;VALUE=DATE-TIME:20211003T093000
DTEND;TZID=Europe/Vienna;VALUE=DATE-TIME:20211003T173000
DTSTAMP;VALUE=DATE-TIME:20260422T060954Z
UID:fc3809feec644f818209a9263da2de40@www.yonne.catholique.fr
CONTACT:Jérôme Pinot\, responsable catéchèse et aumônerie pour les pa
 roisses de l'Avallonnais\, 06.14.37.82.25\, kt.avallonnais@gmail.com
CREATED;VALUE=DATE-TIME:20210928T095142Z
DESCRIPTION:Journée ouverte à tous\, aux paroissiens\,  aux familles\, a
 ux jeunes\, aux enfants et plus largement !
LAST-MODIFIED;VALUE=DATE-TIME:20210928T095202Z
LOCATION:Abbaye de la Pierre qui Vire
URL:https://www.yonne.catholique.fr/saint-francois-vezelien/vie-paroissial
 e/agenda/journee-de-la-creation
END:VEVENT
BEGIN:VTIMEZONE
TZID:Europe/Vienna
X-LIC-LOCATION:Europe/Vienna
BEGIN:DAYLIGHT
DTSTART;VALUE=DATE-TIME:20210328T030000
TZNAME:CEST
TZOFFSETFROM:+0100
TZOFFSETTO:+0200
END:DAYLIGHT
END:VTIMEZONE
END:VCALENDAR
