BEGIN:VCALENDAR
VERSION:2.0
PRODID:-//Plone.org//NONSGML plone.app.event//EN
X-WR-TIMEZONE:Europe/Paris
BEGIN:VEVENT
SUMMARY:Le chemin des étoiles
DTSTART;TZID=Europe/Paris;VALUE=DATE-TIME:20240622T203000
DTSTAMP;VALUE=DATE-TIME:20260419T235223Z
UID:30ee9323114a498b91471206d9af92da@www.yonne.catholique.fr
ATTENDEE;CN="Raphaëlle Vincent";ROLE=REQ-PARTICIPANT:Raphaëlle Vincent
CONTACT:hotellerie@basiliquedevezelay.org
CREATED;VALUE=DATE-TIME:20240617T142208Z
DESCRIPTION:Dans la basilique Sainte-Marie-Madeleine de Vézelay\, Raphaë
 lle Vincent\, artiste pluridisciplinaire\, présentera son spectacle intit
 ulé “Le chemin des étoiles”. Avec l’aide de livres peints\, de fre
 sques et de témoignages enregistrés\, elle évoquera le pèlerinage qu
 ’elle a effectué sur les chemins de Saint-Jacques.
LAST-MODIFIED;VALUE=DATE-TIME:20240618T124623Z
LOCATION:Basilique de Vézelay
URL:https://www.yonne.catholique.fr/saint-francois-vezelien/vie-paroissial
 e/agenda/le-chemin-des-etoiles
END:VEVENT
BEGIN:VTIMEZONE
TZID:Europe/Paris
X-LIC-LOCATION:Europe/Paris
BEGIN:DAYLIGHT
DTSTART;VALUE=DATE-TIME:20240331T030000
TZNAME:CEST
TZOFFSETFROM:+0100
TZOFFSETTO:+0200
END:DAYLIGHT
END:VTIMEZONE
END:VCALENDAR
