BEGIN:VCALENDAR
VERSION:2.0
PRODID:-//Plone.org//NONSGML plone.app.event//EN
X-WR-TIMEZONE:Europe/Paris
BEGIN:VEVENT
SUMMARY:Messe en Famille. 1ere étape de baptême pour les enfants à part
 ie du CE1 
DTSTART;TZID=Europe/Paris;VALUE=DATE-TIME:20250125T180000
DTEND;TZID=Europe/Paris;VALUE=DATE-TIME:20250125T193000
DTSTAMP;VALUE=DATE-TIME:20260424T164737Z
UID:f814ea66a89544868c05ed7842e33b64@www.yonne.catholique.fr
CONTACT:Jérôme Pinot\, 0614378225\, kt.avallonnais@gmail.com
CREATED;VALUE=DATE-TIME:20250123T154351Z
LAST-MODIFIED;VALUE=DATE-TIME:20250123T154550Z
LOCATION:Saint Martin d'Avallon
URL:https://www.yonne.catholique.fr/saint-francois-vezelien/vie-paroissial
 e/agenda/messe-en-famille-1ere-etape-de-bapteme-pour-les-enfants-a-partie-
 du-ce1
END:VEVENT
BEGIN:VTIMEZONE
TZID:Europe/Paris
X-LIC-LOCATION:Europe/Paris
BEGIN:STANDARD
DTSTART;VALUE=DATE-TIME:20241027T020000
TZNAME:CET
TZOFFSETFROM:+0200
TZOFFSETTO:+0100
END:STANDARD
END:VTIMEZONE
END:VCALENDAR
