BEGIN:VCALENDAR
VERSION:2.0
PRODID:-//Plone.org//NONSGML plone.app.event//EN
X-WR-TIMEZONE:Europe/Paris
BEGIN:VEVENT
SUMMARY:Repas paroissial
DTSTART;VALUE=DATE-TIME:20230204T113000Z
DTEND;VALUE=DATE-TIME:20230204T133000Z
DTSTAMP;VALUE=DATE-TIME:20260420T042646Z
UID:33mo759g1pmfvbk3ce2viacjl7@google.com
CREATED;VALUE=DATE-TIME:20230117T131232Z
DESCRIPTION:Distribution de bulletin d’inscription en janvier. Afin de s
 e retrouver pour un moment de partage et de convivialité\, notez dans vos
  agendas la date du prochain repas paroissial.
LAST-MODIFIED;VALUE=DATE-TIME:20230123T102800Z
LOCATION:Salle des Fêtes de Givry
URL:https://www.yonne.catholique.fr/saint-francois-vezelien/vie-paroissial
 e/agenda/repas-paroissial-2
END:VEVENT
END:VCALENDAR
