BEGIN:VCALENDAR
VERSION:2.0
PRODID:-//Plone.org//NONSGML plone.app.event//EN
X-WR-TIMEZONE:Europe/Paris
BEGIN:VEVENT
SUMMARY:Braderie de la Rentrée au Secours Catholiques
DTSTART;TZID=Europe/Paris;VALUE=DATE-TIME:20250913T090000
DTEND;TZID=Europe/Paris;VALUE=DATE-TIME:20250913T160000
DTSTAMP;VALUE=DATE-TIME:20260421T182622Z
UID:7d863941c66e47c98893859b9c8cf87b@www.yonne.catholique.fr
CREATED;VALUE=DATE-TIME:20250907T141949Z
LAST-MODIFIED;VALUE=DATE-TIME:20250907T142021Z
LOCATION:Secours Caholique 14 rue des Ingles 89300 JOIGNY
URL:https://www.yonne.catholique.fr/saint-jean-baptiste-joigny/vie-paroiss
 iale/agenda/braderie-de-la-rentree-au-secours-catholiques
END:VEVENT
BEGIN:VTIMEZONE
TZID:Europe/Paris
X-LIC-LOCATION:Europe/Paris
BEGIN:DAYLIGHT
DTSTART;VALUE=DATE-TIME:20250330T030000
TZNAME:CEST
TZOFFSETFROM:+0100
TZOFFSETTO:+0200
END:DAYLIGHT
END:VTIMEZONE
END:VCALENDAR
