BEGIN:VCALENDAR
VERSION:2.0
PRODID:-//Plone.org//NONSGML plone.app.event//EN
X-WR-TIMEZONE:Europe/Paris
BEGIN:VEVENT
SUMMARY:Célébrations de la Semaine Sainte
DTSTART;TZID=Europe/Paris;VALUE=DATE-TIME:20230401T103000
DTEND;TZID=Europe/Paris;VALUE=DATE-TIME:20230409T120000
DTSTAMP;VALUE=DATE-TIME:20260419T152000Z
UID:a6b76b66eafc482dab6ddd4caa3131ca@www.yonne.catholique.fr
CONTACT:03 86 62 13 33\, saintjeanbaptistejoigny@gmail.com
CREATED;VALUE=DATE-TIME:20230312T164751Z
LAST-MODIFIED;VALUE=DATE-TIME:20230320T133236Z
LOCATION:Paroisse Saint Jean-Baptiste
URL:https://www.yonne.catholique.fr/saint-jean-baptiste-joigny/vie-paroiss
 iale/agenda/celebrations-de-la-semaine-sainte
END:VEVENT
BEGIN:VTIMEZONE
TZID:Europe/Paris
X-LIC-LOCATION:Europe/Paris
BEGIN:DAYLIGHT
DTSTART;VALUE=DATE-TIME:20230326T030000
TZNAME:CEST
TZOFFSETFROM:+0100
TZOFFSETTO:+0200
END:DAYLIGHT
END:VTIMEZONE
END:VCALENDAR
