BEGIN:VCALENDAR
VERSION:2.0
PRODID:-//Plone.org//NONSGML plone.app.event//EN
X-WR-TIMEZONE:Europe/Paris
BEGIN:VEVENT
SUMMARY:Concert le 27 mars à St Vincent de Paul à Joigny
DTSTART;TZID=Europe/Paris;VALUE=DATE-TIME:20260327T203000
DTEND;TZID=Europe/Paris;VALUE=DATE-TIME:20260327T223000
DTSTAMP;VALUE=DATE-TIME:20260421T085631Z
UID:f0dd52a926cf4401b712341623517754@www.yonne.catholique.fr
CONTACT:saintjeanbaptistejoigny@gmail.com
CREATED;VALUE=DATE-TIME:20260305T084221Z
LAST-MODIFIED;VALUE=DATE-TIME:20260305T084439Z
LOCATION:Eglise St Vincent de Paul
URL:https://www.yonne.catholique.fr/saint-jean-baptiste-joigny/vie-paroiss
 iale/agenda/concert-le-27-mars-a-st-vincent-de-paul-a-joigny
END:VEVENT
BEGIN:VTIMEZONE
TZID:Europe/Paris
X-LIC-LOCATION:Europe/Paris
BEGIN:STANDARD
DTSTART;VALUE=DATE-TIME:20251026T020000
TZNAME:CET
TZOFFSETFROM:+0200
TZOFFSETTO:+0100
END:STANDARD
END:VTIMEZONE
END:VCALENDAR
