BEGIN:VCALENDAR
VERSION:2.0
PRODID:-//Plone.org//NONSGML plone.app.event//EN
X-WR-TIMEZONE:Europe/Paris
BEGIN:VEVENT
SUMMARY:Fête du Pardon
DTSTART;TZID=Europe/Vienna;VALUE=DATE-TIME:20220402T100000
DTEND;TZID=Europe/Vienna;VALUE=DATE-TIME:20220402T140000
DTSTAMP;VALUE=DATE-TIME:20260420T175017Z
UID:186235ae8b984c12af0a18f58c36cf64@www.yonne.catholique.fr
CONTACT:Paroisse Saint Jean-Baptiste\, 0386621333\, saintjeanbaptistejoign
 y@gmail.com
CREATED;VALUE=DATE-TIME:20220329T114008Z
DESCRIPTION:Chacun pourra venir recevoir le sacrement de réconciliation\,
  vivre un temps d'adoration devant le saint Sacrement\, méditer et prier 
 avec des lectures et chants.
LAST-MODIFIED;VALUE=DATE-TIME:20220329T114021Z
LOCATION:Eglise Saint Jean-Baptiste de Joigny
URL:https://www.yonne.catholique.fr/saint-jean-baptiste-joigny/vie-paroiss
 iale/agenda/fete-du-pardon-1
END:VEVENT
BEGIN:VTIMEZONE
TZID:Europe/Vienna
X-LIC-LOCATION:Europe/Vienna
BEGIN:DAYLIGHT
DTSTART;VALUE=DATE-TIME:20220327T030000
TZNAME:CEST
TZOFFSETFROM:+0100
TZOFFSETTO:+0200
END:DAYLIGHT
END:VTIMEZONE
END:VCALENDAR
