BEGIN:VCALENDAR
VERSION:2.0
PRODID:-//Plone.org//NONSGML plone.app.event//EN
X-WR-TIMEZONE:Europe/Paris
BEGIN:VEVENT
SUMMARY:La rentrée du caté !
DTSTART;TZID=Europe/Paris;VALUE=DATE-TIME:20250912T183000
DTEND;TZID=Europe/Paris;VALUE=DATE-TIME:20250913T121500
DTSTAMP;VALUE=DATE-TIME:20260420T092857Z
UID:37928e6a03e444d2a0cf18813af90eb4@www.yonne.catholique.fr
CATEGORIES:c,a,t,�,�
CATEGORIES:P,a,r,o,i,s,s,e,s
CONTACT:Dorothée BRICOUT\, 03 86 62 13 33 \, saintjeanbaptistejoigny@gmai
 l.com
CREATED;VALUE=DATE-TIME:20250907T141508Z
LAST-MODIFIED;VALUE=DATE-TIME:20250909T121050Z
LOCATION:Presbytère Saint Jean-Baptiste
URL:https://www.yonne.catholique.fr/saint-jean-baptiste-joigny/vie-paroiss
 iale/agenda/la-rentree-du-cate
END:VEVENT
BEGIN:VTIMEZONE
TZID:Europe/Paris
X-LIC-LOCATION:Europe/Paris
BEGIN:DAYLIGHT
DTSTART;VALUE=DATE-TIME:20250330T030000
TZNAME:CEST
TZOFFSETFROM:+0100
TZOFFSETTO:+0200
END:DAYLIGHT
END:VTIMEZONE
END:VCALENDAR
