BEGIN:VCALENDAR
VERSION:2.0
PRODID:-//Plone.org//NONSGML plone.app.event//EN
X-WR-TIMEZONE:Europe/Paris
BEGIN:VEVENT
SUMMARY:Prières des Mères - Tous les jeudis
DTSTART;TZID=Europe/Paris;VALUE=DATE-TIME:20241128T093000
DTEND;TZID=Europe/Paris;VALUE=DATE-TIME:20241128T110000
DTSTAMP;VALUE=DATE-TIME:20260422T113941Z
UID:894c438a81c3424a9dca1ec8e1b876d7@www.yonne.catholique.fr
CONTACT:Roseline De Laval\, 03 86 62 13 33\, saintjeanbaptistejoigny@gmail
 .com
CREATED;VALUE=DATE-TIME:20241102T094124Z
DESCRIPTION:Nous nous réunissons les jeudis matins hors période vacances
  scolaires.
LAST-MODIFIED;VALUE=DATE-TIME:20241127T080141Z
LOCATION:Paroisse Saint Jean-Baptiste
URL:https://www.yonne.catholique.fr/saint-jean-baptiste-joigny/vie-paroiss
 iale/agenda/prieres-des-meres-tous-les-jeudis
END:VEVENT
BEGIN:VTIMEZONE
TZID:Europe/Paris
X-LIC-LOCATION:Europe/Paris
BEGIN:STANDARD
DTSTART;VALUE=DATE-TIME:20241027T020000
TZNAME:CET
TZOFFSETFROM:+0200
TZOFFSETTO:+0100
END:STANDARD
END:VTIMEZONE
END:VCALENDAR
