BEGIN:VCALENDAR
VERSION:2.0
PRODID:-//Plone.org//NONSGML plone.app.event//EN
X-WR-TIMEZONE:Europe/Paris
BEGIN:VEVENT
SUMMARY:Projection du film \;  Handi’cap sur le Kilimandjaro : l’ascen
 sion de tous les possibles
DTSTART;TZID=Europe/Paris;VALUE=DATE-TIME:20250406T150000
DTEND;TZID=Europe/Paris;VALUE=DATE-TIME:20250406T170000
DTSTAMP;VALUE=DATE-TIME:20260424T155322Z
UID:fb343b10bc8648f09c9ee0c8575e7f98@www.yonne.catholique.fr
CONTACT:Sophie CALLE PICARD\, 03 86 62 13 33\, saintjeanbaptistejoigny@gma
 il.com
CREATED;VALUE=DATE-TIME:20250320T175735Z
DESCRIPTION:Sophie CALLE-PICARD\, présidente d’Alopias en compagnie d
 ’Isabelle et Arnaud CHASSERY vous invite à la projection du film : Hand
 i’cap sur le Kilimandjaro : l’ascension de tous les possibles” suivi
  d’un débat : une ode à la solidarité et au dépassement de soi.\n
LAST-MODIFIED;VALUE=DATE-TIME:20250331T091545Z
URL:https://www.yonne.catholique.fr/saint-jean-baptiste-joigny/vie-paroiss
 iale/agenda/projexction-du-film-handi2019cap-sur-le-kilimandjaro-l2019asce
 nsion-de-tous-les-possibles
END:VEVENT
BEGIN:VTIMEZONE
TZID:Europe/Paris
X-LIC-LOCATION:Europe/Paris
BEGIN:DAYLIGHT
DTSTART;VALUE=DATE-TIME:20250330T030000
TZNAME:CEST
TZOFFSETFROM:+0100
TZOFFSETTO:+0200
END:DAYLIGHT
END:VTIMEZONE
END:VCALENDAR
