BEGIN:VCALENDAR
VERSION:2.0
PRODID:-//Plone.org//NONSGML plone.app.event//EN
X-WR-TIMEZONE:Europe/Paris
BEGIN:VEVENT
SUMMARY:Rencontre ThéoCafé - 7 septembre
DTSTART;TZID=Europe/Paris;VALUE=DATE-TIME:20230807T150000
DTEND;TZID=Europe/Paris;VALUE=DATE-TIME:20230807T170000
DTSTAMP;VALUE=DATE-TIME:20260419T165439Z
UID:ec0fb61376bb429f9622ae5fd4027073@www.yonne.catholique.fr
CONTACT:Sylvie RHO et Margarida MESNY\, 03 86 62 13 33\, saintjeanbaptiste
 joigny@gmail.com
CREATED;VALUE=DATE-TIME:20230824T094649Z
DESCRIPTION:Reprise de la rencontre ThéoCafé
LAST-MODIFIED;VALUE=DATE-TIME:20230824T094656Z
LOCATION:Paroisse Saint Jean-Baptiste
URL:https://www.yonne.catholique.fr/saint-jean-baptiste-joigny/vie-paroiss
 iale/agenda/rencontre-theocafe-7-septembre
END:VEVENT
BEGIN:VTIMEZONE
TZID:Europe/Paris
X-LIC-LOCATION:Europe/Paris
BEGIN:DAYLIGHT
DTSTART;VALUE=DATE-TIME:20230326T030000
TZNAME:CEST
TZOFFSETFROM:+0100
TZOFFSETTO:+0200
END:DAYLIGHT
END:VTIMEZONE
END:VCALENDAR
