BEGIN:VCALENDAR
VERSION:2.0
PRODID:-//Plone.org//NONSGML plone.app.event//EN
X-WR-TIMEZONE:Europe/Paris
BEGIN:VEVENT
SUMMARY:Semaine de Pirère pour l'unité des Chrétiens du 18 au 25 janvie
 r 2026
DTSTART;TZID=Europe/Paris;VALUE=DATE-TIME:20260126T190000
DTEND;TZID=Europe/Paris;VALUE=DATE-TIME:20260126T210000
DTSTAMP;VALUE=DATE-TIME:20260425T000739Z
UID:67decdc0fa764c7abd4ddf86362b0262@www.yonne.catholique.fr
CREATED;VALUE=DATE-TIME:20260112T142409Z
LAST-MODIFIED;VALUE=DATE-TIME:20260112T142429Z
LOCATION:Temple de l'Eglise Protestante Unie : 22 rue Pasteur 89100 SENS
URL:https://www.yonne.catholique.fr/saint-jean-baptiste-joigny/vie-paroiss
 iale/agenda/semaine-de-pirere-pour-lunite-des-chretiens-du-18-au-25-janvie
 r-2026
END:VEVENT
BEGIN:VTIMEZONE
TZID:Europe/Paris
X-LIC-LOCATION:Europe/Paris
BEGIN:STANDARD
DTSTART;VALUE=DATE-TIME:20251026T020000
TZNAME:CET
TZOFFSETFROM:+0200
TZOFFSETTO:+0100
END:STANDARD
END:VTIMEZONE
END:VCALENDAR
