BEGIN:VCALENDAR
VERSION:2.0
PRODID:-//Plone.org//NONSGML plone.app.event//EN
X-WR-TIMEZONE:Europe/Paris
BEGIN:VEVENT
SUMMARY:Vœux du curé 
DTSTART;TZID=Europe/Paris;VALUE=DATE-TIME:20230108T160000
DTEND;TZID=Europe/Paris;VALUE=DATE-TIME:20230108T180000
DTSTAMP;VALUE=DATE-TIME:20260422T194012Z
UID:1c5269aad329427ca2004289e9855638@www.yonne.catholique.fr
CONTACT:03 86 62 13 33\, saintjeanbaptistejoigny@gmail.com
CREATED;VALUE=DATE-TIME:20230104T100454Z
DESCRIPTION:Dimanche 8 janvier à 16h00 au presbytère\, le Père Matthieu
  organise ses vœux.
LAST-MODIFIED;VALUE=DATE-TIME:20230104T100925Z
LOCATION:Presbytère Saint Jean-Baptiste
URL:https://www.yonne.catholique.fr/saint-jean-baptiste-joigny/vie-paroiss
 iale/agenda/voeux-du-cure
END:VEVENT
BEGIN:VTIMEZONE
TZID:Europe/Paris
X-LIC-LOCATION:Europe/Paris
BEGIN:STANDARD
DTSTART;VALUE=DATE-TIME:20221030T020000
TZNAME:CET
TZOFFSETFROM:+0200
TZOFFSETTO:+0100
END:STANDARD
END:VTIMEZONE
END:VCALENDAR
