BEGIN:VCALENDAR
VERSION:2.0
PRODID:-//Plone.org//NONSGML plone.app.event//EN
X-WR-TIMEZONE:Europe/Paris
BEGIN:VEVENT
SUMMARY:Aidons le Père Jean-Michel TENDENG à retrouver la vue
DTSTART;VALUE=DATE:20260417
DTEND;VALUE=DATE:20260615
DTSTAMP;VALUE=DATE-TIME:20260422T032054Z
UID:4c1447891373447b80f943c5b07491ab@www.yonne.catholique.fr
CONTACT:Jean-Michel TENDENG : jmtendeng@yahoo.com Celine FLORENTIN\, secr
 étariat du Père : 06 22 79 31 76 Association Guñol Mof Avvi : gunol.mof
 avvi@gmail.com\, https://www.helloasso.com/associations/gunol-mof-avvi/col
 lectes/aidons-le-pere-jean-michel-tendeng-a-retrouver-la-vue
CREATED;VALUE=DATE-TIME:20260416T224303Z
DESCRIPTION:Le Père Jean-Michel\, prêtre sénégalais ayant consacré sa
  vie au service des autres vit aujourd'hui une épreuve qui pourrait lui c
 oût la vue.
LAST-MODIFIED;VALUE=DATE-TIME:20260416T224718Z
URL:https://www.yonne.catholique.fr/saint-louis/vie-paroissiale/agenda/aid
 ons-le-pere-jean-michel-tendeng-a-retrouver-la-vue
END:VEVENT
END:VCALENDAR
