BEGIN:VCALENDAR
VERSION:2.0
PRODID:-//Plone.org//NONSGML plone.app.event//EN
X-WR-TIMEZONE:Europe/Paris
BEGIN:VEVENT
SUMMARY:Semaine missionnaire mondiale 2025
DTSTART;VALUE=DATE:20251012
DTEND;VALUE=DATE:20251020
DTSTAMP;VALUE=DATE-TIME:20260423T013451Z
UID:b6948ef214f644079e0e21e3f672deb5@www.yonne.catholique.fr
CONTACT:service diocésain de la Mission universelle - sdmu@diocese89.fr\,
  https://www.opm-france.org/tout-savoir/semaine-missionnaire-mondiale/
CREATED;VALUE=DATE-TIME:20251007T142021Z
DESCRIPTION:"Missionnaires de l'espérance parmi les peuples"
LAST-MODIFIED;VALUE=DATE-TIME:20251007T142226Z
URL:https://www.yonne.catholique.fr/saint-louis/vie-paroissiale/agenda/arc
 hive-2025/semaine-missionnaire-mondiale-2025
END:VEVENT
END:VCALENDAR
