BEGIN:VCALENDAR
VERSION:2.0
PRODID:-//Plone.org//NONSGML plone.app.event//EN
X-WR-TIMEZONE:Europe/Paris
BEGIN:VEVENT
SUMMARY:Vigile Pascale\, messe du 19.04.2025
DTSTART;TZID=Europe/Paris;VALUE=DATE-TIME:20250419T210000
DTSTAMP;VALUE=DATE-TIME:20260421T083055Z
UID:16d45324586d4247af7c6a015904bdfc@www.yonne.catholique.fr
CATEGORIES:S,e,m,a,i,n,e, ,S,a,i,n,t,e
CREATED;VALUE=DATE-TIME:20250430T091157Z
DESCRIPTION:Joie Pascale : Cinq Nouveaux Membres dans Notre Communauté !
LAST-MODIFIED;VALUE=DATE-TIME:20250512T070035Z
URL:https://www.yonne.catholique.fr/saint-louis/vie-paroissiale/agenda/arc
 hive-2025/vigile-pascale-messe-du-19-04-2025
END:VEVENT
BEGIN:VTIMEZONE
TZID:Europe/Paris
X-LIC-LOCATION:Europe/Paris
BEGIN:DAYLIGHT
DTSTART;VALUE=DATE-TIME:20250330T030000
TZNAME:CEST
TZOFFSETFROM:+0100
TZOFFSETTO:+0200
END:DAYLIGHT
END:VTIMEZONE
END:VCALENDAR
