BEGIN:VCALENDAR
VERSION:2.0
PRODID:-//Plone.org//NONSGML plone.app.event//EN
X-WR-TIMEZONE:Europe/Paris
BEGIN:VEVENT
SUMMARY:Concerts gratuits
DTSTART;TZID=Europe/Vienna;VALUE=DATE-TIME:20211217T190000
DTEND;TZID=Europe/Vienna;VALUE=DATE-TIME:20211219T160000
DTSTAMP;VALUE=DATE-TIME:20260423T142944Z
UID:51bccca8162e4a6e9e23b26f8af6e2fe@www.yonne.catholique.fr
CREATED;VALUE=DATE-TIME:20211205T205614Z
DESCRIPTION:Trois concerts gratuits
LAST-MODIFIED;VALUE=DATE-TIME:20211205T205833Z
LOCATION:Eglise de La Chapelle Sur Oreuse
URL:https://www.yonne.catholique.fr/saint-louis/vie-paroissiale/agenda/arc
 hives-2021/concerts-gratuits
END:VEVENT
BEGIN:VTIMEZONE
TZID:Europe/Vienna
X-LIC-LOCATION:Europe/Vienna
BEGIN:STANDARD
DTSTART;VALUE=DATE-TIME:20211031T020000
TZNAME:CET
TZOFFSETFROM:+0200
TZOFFSETTO:+0100
END:STANDARD
END:VTIMEZONE
END:VCALENDAR
