BEGIN:VCALENDAR
VERSION:2.0
PRODID:-//Plone.org//NONSGML plone.app.event//EN
X-WR-TIMEZONE:Europe/Paris
BEGIN:VEVENT
SUMMARY:Crèche vivante 2021
DTSTART;TZID=Europe/Vienna;VALUE=DATE-TIME:20211218T153000
DTEND;TZID=Europe/Vienna;VALUE=DATE-TIME:20211218T180000
DTSTAMP;VALUE=DATE-TIME:20260422T194012Z
UID:52bd4dc4d55e4044a9cfaf32fdf6ea54@www.yonne.catholique.fr
CREATED;VALUE=DATE-TIME:20211218T115223Z
DESCRIPTION:Venez découvrir la crèche vivante en allant sur le marché d
 e Noël de Pont Sur Yonne
LAST-MODIFIED;VALUE=DATE-TIME:20211218T120432Z
LOCATION:Eglise de Pont Sur Yonne
URL:https://www.yonne.catholique.fr/saint-louis/vie-paroissiale/agenda/arc
 hives-2021/creche-vivante-2021
END:VEVENT
BEGIN:VTIMEZONE
TZID:Europe/Vienna
X-LIC-LOCATION:Europe/Vienna
BEGIN:STANDARD
DTSTART;VALUE=DATE-TIME:20211031T020000
TZNAME:CET
TZOFFSETFROM:+0200
TZOFFSETTO:+0100
END:STANDARD
END:VTIMEZONE
END:VCALENDAR
