BEGIN:VCALENDAR
VERSION:2.0
PRODID:-//Plone.org//NONSGML plone.app.event//EN
X-WR-TIMEZONE:Europe/Paris
BEGIN:VEVENT
SUMMARY:Messe du 14/01/2023
DTSTART;TZID=Europe/Paris;VALUE=DATE-TIME:20230114T170000
DTEND;TZID=Europe/Paris;VALUE=DATE-TIME:20230114T180000
DTSTAMP;VALUE=DATE-TIME:20260419T213209Z
UID:9c6fa045890d4016a5b4408a11404759@www.yonne.catholique.fr
CREATED;VALUE=DATE-TIME:20230107T120544Z
DESCRIPTION:Venez fêter la Saint Vincent à Villeneuve-La-Guyard avec la 
 confrérie Saint Vincent.
LAST-MODIFIED;VALUE=DATE-TIME:20230107T120605Z
LOCATION:Eglise de Villeneuve-La-Guyard
URL:https://www.yonne.catholique.fr/saint-louis/vie-paroissiale/agenda/arc
 hives-2022-1/messe-du-14-01-2023
END:VEVENT
BEGIN:VTIMEZONE
TZID:Europe/Paris
X-LIC-LOCATION:Europe/Paris
BEGIN:STANDARD
DTSTART;VALUE=DATE-TIME:20221030T020000
TZNAME:CET
TZOFFSETFROM:+0200
TZOFFSETTO:+0100
END:STANDARD
END:VTIMEZONE
END:VCALENDAR
