BEGIN:VCALENDAR
VERSION:2.0
PRODID:-//Plone.org//NONSGML plone.app.event//EN
X-WR-TIMEZONE:Europe/Paris
BEGIN:VEVENT
SUMMARY:Rentrée caté Villeneuve La Guyard
DTSTART;TZID=Europe/Paris;VALUE=DATE-TIME:20220917T153000
DTEND;TZID=Europe/Paris;VALUE=DATE-TIME:20220917T180000
DTSTAMP;VALUE=DATE-TIME:20260420T061103Z
UID:5ab37e39f676431f870d79ef0660f28c@www.yonne.catholique.fr
CONTACT:Christine Calame\, 06.71.09.08.03\, ccalame89@gmail.com
CREATED;VALUE=DATE-TIME:20220724T100410Z
DESCRIPTION:Venez reprendre ou commencer son année de caté 2022.
LAST-MODIFIED;VALUE=DATE-TIME:20220916T153831Z
LOCATION:Villeneuve La Guyard
URL:https://www.yonne.catholique.fr/saint-louis/vie-paroissiale/agenda/arc
 hives-2022/rentree-cate-villeneuve-la-guyard
END:VEVENT
BEGIN:VTIMEZONE
TZID:Europe/Paris
X-LIC-LOCATION:Europe/Paris
BEGIN:DAYLIGHT
DTSTART;VALUE=DATE-TIME:20220327T030000
TZNAME:CEST
TZOFFSETFROM:+0100
TZOFFSETTO:+0200
END:DAYLIGHT
END:VTIMEZONE
END:VCALENDAR
