BEGIN:VCALENDAR
VERSION:2.0
PRODID:-//Plone.org//NONSGML plone.app.event//EN
X-WR-TIMEZONE:Europe/Paris
BEGIN:VEVENT
SUMMARY:Chapelet
DTSTART;TZID=Europe/Paris;VALUE=DATE-TIME:20240502T183000
DTEND;TZID=Europe/Paris;VALUE=DATE-TIME:20240502T193000
DTSTAMP;VALUE=DATE-TIME:20260422T135823Z
UID:01cdb2fe300446dfa86a1b4c96d43c1d@www.yonne.catholique.fr
CREATED;VALUE=DATE-TIME:20240501T165105Z
LAST-MODIFIED;VALUE=DATE-TIME:20240501T165134Z
LOCATION:Eglise de Villeneuve La Guyard
URL:https://www.yonne.catholique.fr/saint-louis/vie-paroissiale/agenda/arc
 hives-agenda/chapelet
END:VEVENT
BEGIN:VTIMEZONE
TZID:Europe/Paris
X-LIC-LOCATION:Europe/Paris
BEGIN:DAYLIGHT
DTSTART;VALUE=DATE-TIME:20240331T030000
TZNAME:CEST
TZOFFSETFROM:+0100
TZOFFSETTO:+0200
END:DAYLIGHT
END:VTIMEZONE
END:VCALENDAR
