BEGIN:VCALENDAR
VERSION:2.0
PRODID:-//Plone.org//NONSGML plone.app.event//EN
X-WR-TIMEZONE:Europe/Paris
BEGIN:VEVENT
SUMMARY:La messe de la Toussaint
DTSTART;TZID=Europe/Paris;VALUE=DATE-TIME:20221101T103000
DTEND;TZID=Europe/Paris;VALUE=DATE-TIME:20221101T120000
DTSTAMP;VALUE=DATE-TIME:20260420T042700Z
UID:a46b32e25f3b49ffbee7c1a0572cccae@www.yonne.catholique.fr
CREATED;VALUE=DATE-TIME:20221016T152726Z
DESCRIPTION:C’est la messe d’installation du Père Jean-Michel par Mon
 seigneur Giraud.
LAST-MODIFIED;VALUE=DATE-TIME:20221031T082840Z
LOCATION:Eglise de Pont Sur Yonne
URL:https://www.yonne.catholique.fr/saint-louis/vie-paroissiale/agenda/arc
 hives-agenda/la-messe-de-la-toussaint
END:VEVENT
BEGIN:VTIMEZONE
TZID:Europe/Paris
X-LIC-LOCATION:Europe/Paris
BEGIN:STANDARD
DTSTART;VALUE=DATE-TIME:20221030T020000
TZNAME:CET
TZOFFSETFROM:+0200
TZOFFSETTO:+0100
END:STANDARD
END:VTIMEZONE
END:VCALENDAR
