BEGIN:VCALENDAR
VERSION:2.0
PRODID:-//Plone.org//NONSGML plone.app.event//EN
X-WR-TIMEZONE:Europe/Paris
BEGIN:VEVENT
SUMMARY:Messe maison retraite Villeblevin
DTSTART;TZID=Europe/Paris;VALUE=DATE-TIME:20241213T160000
DTEND;TZID=Europe/Paris;VALUE=DATE-TIME:20241213T170000
DTSTAMP;VALUE=DATE-TIME:20260423T013428Z
UID:2d5b45fb8a684f2fb5634b15ef6c0c14@www.yonne.catholique.fr
CREATED;VALUE=DATE-TIME:20241130T105544Z
LAST-MODIFIED;VALUE=DATE-TIME:20241130T105558Z
LOCATION:Maison de retraire de Villeblevin
URL:https://www.yonne.catholique.fr/saint-louis/vie-paroissiale/agenda/arc
 hives-agenda/messe-maison-retraite-villeblevin-9
END:VEVENT
BEGIN:VTIMEZONE
TZID:Europe/Paris
X-LIC-LOCATION:Europe/Paris
BEGIN:STANDARD
DTSTART;VALUE=DATE-TIME:20241027T020000
TZNAME:CET
TZOFFSETFROM:+0200
TZOFFSETTO:+0100
END:STANDARD
END:VTIMEZONE
END:VCALENDAR
