BEGIN:VCALENDAR
VERSION:2.0
PRODID:-//Plone.org//NONSGML plone.app.event//EN
X-WR-TIMEZONE:Europe/Paris
BEGIN:VEVENT
SUMMARY:Réunion parents / catéchistes
DTSTART;TZID=Europe/Paris;VALUE=DATE-TIME:20231006T190000
DTEND;TZID=Europe/Paris;VALUE=DATE-TIME:20231006T200000
DTSTAMP;VALUE=DATE-TIME:20260419T165439Z
UID:f990b52c06b947d1b2ba51ef8280577d@www.yonne.catholique.fr
CREATED;VALUE=DATE-TIME:20230910T071902Z
DESCRIPTION:Venez rencontrer les catéchistes de vos enfants lors de cette
  réunion.
LAST-MODIFIED;VALUE=DATE-TIME:20230910T072027Z
LOCATION:Maison paroissiale de Pont Sur Yonne
URL:https://www.yonne.catholique.fr/saint-louis/vie-paroissiale/agenda/arc
 hives-agenda/reunion-parents-catechistes-1
END:VEVENT
BEGIN:VTIMEZONE
TZID:Europe/Paris
X-LIC-LOCATION:Europe/Paris
BEGIN:DAYLIGHT
DTSTART;VALUE=DATE-TIME:20230326T030000
TZNAME:CEST
TZOFFSETFROM:+0100
TZOFFSETTO:+0200
END:DAYLIGHT
END:VTIMEZONE
END:VCALENDAR
