BEGIN:VCALENDAR
VERSION:2.0
PRODID:-//Plone.org//NONSGML plone.app.event//EN
X-WR-TIMEZONE:Europe/Paris
BEGIN:VEVENT
SUMMARY:Assemblée des catéchumènes adultes
DTSTART;TZID=Europe/Paris;VALUE=DATE-TIME:20260117T100000
DTEND;TZID=Europe/Paris;VALUE=DATE-TIME:20260117T160000
DTSTAMP;VALUE=DATE-TIME:20260420T221444Z
UID:1b5a22e40c054493b828ab988bfaf7f2@www.yonne.catholique.fr
CONTACT:https://www.yonne.catholique.fr/agenda/assemblee-des-catechumenes
CREATED;VALUE=DATE-TIME:20260106T145233Z
DESCRIPTION:pour tous les adultes qui feront leur Appel décisif le 22 fé
 vrier 2026 (une autre rencontre est prévue pour les catéchumènes adoles
 cents).
LAST-MODIFIED;VALUE=DATE-TIME:20260106T145350Z
URL:https://www.yonne.catholique.fr/saint-louis/vie-paroissiale/agenda/ass
 emblee-des-catechumenes-adultes-1
END:VEVENT
BEGIN:VTIMEZONE
TZID:Europe/Paris
X-LIC-LOCATION:Europe/Paris
BEGIN:STANDARD
DTSTART;VALUE=DATE-TIME:20251026T020000
TZNAME:CET
TZOFFSETFROM:+0200
TZOFFSETTO:+0100
END:STANDARD
END:VTIMEZONE
END:VCALENDAR
