BEGIN:VCALENDAR
VERSION:2.0
PRODID:-//Plone.org//NONSGML plone.app.event//EN
X-WR-TIMEZONE:Europe/Paris
BEGIN:VEVENT
SUMMARY:Chapelet à l'église de Gisy-les-Nobles
DTSTART;TZID=Europe/Paris;VALUE=DATE-TIME:20260114T190000
DTSTAMP;VALUE=DATE-TIME:20260419T235717Z
UID:b4c01d7b7257470cadc074bad350c5b1@www.yonne.catholique.fr
CONTACT:Marie Margaret Oguenin\, 06 21 22 37 78
CREATED;VALUE=DATE-TIME:20260106T131943Z
DESCRIPTION:le 14 janvier à 19h
LAST-MODIFIED;VALUE=DATE-TIME:20260112T123545Z
LOCATION:Église de Gisy-les-Nobles
URL:https://www.yonne.catholique.fr/saint-louis/vie-paroissiale/agenda/cha
 pelet-a-leglise-de-gisy-les-nobles-1
END:VEVENT
BEGIN:VTIMEZONE
TZID:Europe/Paris
X-LIC-LOCATION:Europe/Paris
BEGIN:STANDARD
DTSTART;VALUE=DATE-TIME:20251026T020000
TZNAME:CET
TZOFFSETFROM:+0200
TZOFFSETTO:+0100
END:STANDARD
END:VTIMEZONE
END:VCALENDAR
