BEGIN:VCALENDAR
VERSION:2.0
PRODID:-//Plone.org//NONSGML plone.app.event//EN
X-WR-TIMEZONE:Europe/Paris
BEGIN:VEVENT
SUMMARY:Foi et homosexualité : 2 journées pour en parler
DTSTART;TZID=Europe/Paris;VALUE=DATE-TIME:20260418T090000
DTEND;TZID=Europe/Paris;VALUE=DATE-TIME:20260418T160000
DTSTAMP;VALUE=DATE-TIME:20260424T112115Z
UID:c4019ca89bd543e89013c089308fedfa@www.yonne.catholique.fr
CONTACT:Frédéric et Sophie Canler\, foi.homosexualite@diocese89.fr\, htt
 ps://www.yonne.catholique.fr/agenda/foi-et-homosexualite-2-journees-pour-e
 n-parler
CREATED;VALUE=DATE-TIME:20260414T122142Z
DESCRIPTION:La pastorale “foi et homosexualité” organise ses premièr
 es rencontres (deux journées complémentaires) consacrées aux échanges 
 et aux partages\, à Pont-sur-Yonne : les 18 avril et 30 mai 2026.
LAST-MODIFIED;VALUE=DATE-TIME:20260414T122305Z
LOCATION:Pont-sur-Yonne\, quai de Buttes
URL:https://www.yonne.catholique.fr/saint-louis/vie-paroissiale/agenda/foi
 -et-homosexualite-2-journees-pour-en-parler
END:VEVENT
BEGIN:VTIMEZONE
TZID:Europe/Paris
X-LIC-LOCATION:Europe/Paris
BEGIN:DAYLIGHT
DTSTART;VALUE=DATE-TIME:20260329T030000
TZNAME:CEST
TZOFFSETFROM:+0100
TZOFFSETTO:+0200
END:DAYLIGHT
END:VTIMEZONE
END:VCALENDAR
