BEGIN:VCALENDAR
VERSION:2.0
PRODID:-//Plone.org//NONSGML plone.app.event//EN
X-WR-TIMEZONE:Europe/Paris
BEGIN:VEVENT
SUMMARY:Les ateliers Évangile\, Luc 23
DTSTART;TZID=Europe/Paris;VALUE=DATE-TIME:20260325T183000
DTSTAMP;VALUE=DATE-TIME:20260424T010912Z
UID:62d7f9869d0242b2b5521bf0b2b566f3@www.yonne.catholique.fr
CREATED;VALUE=DATE-TIME:20260108T082423Z
DESCRIPTION:Deux lieux : Pont-sur-Yonne (18h30) et Sens (20h30)\nDeux date
 s : 25 ou 26 mars 2026
LAST-MODIFIED;VALUE=DATE-TIME:20260331T124132Z
URL:https://www.yonne.catholique.fr/saint-louis/vie-paroissiale/agenda/les
 -ateliers-evangile-matthieu-27
END:VEVENT
BEGIN:VTIMEZONE
TZID:Europe/Paris
X-LIC-LOCATION:Europe/Paris
BEGIN:STANDARD
DTSTART;VALUE=DATE-TIME:20251026T020000
TZNAME:CET
TZOFFSETFROM:+0200
TZOFFSETTO:+0100
END:STANDARD
END:VTIMEZONE
END:VCALENDAR
