BEGIN:VCALENDAR
VERSION:2.0
PRODID:-//Plone.org//NONSGML plone.app.event//EN
X-WR-TIMEZONE:Europe/Paris
BEGIN:VEVENT
SUMMARY:Vivre la Semaine Sainte : apprendre à mettre nos pas dans ceux du
  Christ pour avoir part à la Vie du Ressuscité 3/4
DTSTART;TZID=Europe/Paris;VALUE=DATE-TIME:20260321T103000
DTEND;TZID=Europe/Paris;VALUE=DATE-TIME:20260322T173000
DTSTAMP;VALUE=DATE-TIME:20260425T001435Z
UID:27f34e93c40e449c96c454c330b61af7@www.yonne.catholique.fr
CONTACT:06 82 13 45 83\, catechumenat@diocese89.fr\, https://www.yonne.cat
 holique.fr/agenda/vivre-la-semaine-sainte-apprendre-a-mettre-nos-pas-dans-
 ceux-du-christ-pour-avoir-part-a-la-vie-du-ressuscite-3-4
CREATED;VALUE=DATE-TIME:20260127T140638Z
DESCRIPTION:Vous êtes adulte nouvellement baptisé ("néophyte") ? Ces se
 ssions vous sont destinées\, au choix ou à suivre comme un parcours\, po
 ur vous aider à grandir la foi. Cette session (3/4) est animée par frèr
 e Patrick et un membre du service diocésain du catéchuménat.\nLe prix (
 80€) comprend la nuitée et 3 repas - 20 places.
LAST-MODIFIED;VALUE=DATE-TIME:20260127T140648Z
URL:https://www.yonne.catholique.fr/saint-louis/vie-paroissiale/agenda/viv
 re-la-semaine-sainte-apprendre-a-mettre-nos-pas-dans-ceux-du-christ-pour-a
 voir-part-a-la-vie-du-ressuscite-3-4
END:VEVENT
BEGIN:VTIMEZONE
TZID:Europe/Paris
X-LIC-LOCATION:Europe/Paris
BEGIN:STANDARD
DTSTART;VALUE=DATE-TIME:20251026T020000
TZNAME:CET
TZOFFSETFROM:+0200
TZOFFSETTO:+0100
END:STANDARD
END:VTIMEZONE
END:VCALENDAR
