BEGIN:VCALENDAR
VERSION:2.0
PRODID:-//Plone.org//NONSGML plone.app.event//EN
X-WR-TIMEZONE:Europe/Paris
BEGIN:VEVENT
SUMMARY:MESSE prévue à OUANNE 16 SPTEMBRE aura lieu à TOUCY
DTSTART;TZID=Europe/Paris;VALUE=DATE-TIME:20230916T080000
DTEND;TZID=Europe/Paris;VALUE=DATE-TIME:20230917T090000
DTSTAMP;VALUE=DATE-TIME:20260422T190853Z
UID:c1f1ca2ad55c4eaf878238617f8fcc49@www.yonne.catholique.fr
CREATED;VALUE=DATE-TIME:20230913T062150Z
DESCRIPTION:En raison de la Foire de OUANNE (du 16/17 septembre)\,\nL'acc
 ès à l'église étant impossible\,\nLa messe anticipée du samedi 16 aur
 a lieu à 18h00 à TOUCY...\nMerci de prévenir ceux de votre entourage qu
 i n'aurait pas accès à internet.
LAST-MODIFIED;VALUE=DATE-TIME:20250705T140510Z
URL:https://www.yonne.catholique.fr/saint-luc/COMMUNICATION/agenda/annulat
 ion-messe-ouanne-le-16-sptembre-2023
END:VEVENT
BEGIN:VTIMEZONE
TZID:Europe/Paris
X-LIC-LOCATION:Europe/Paris
BEGIN:DAYLIGHT
DTSTART;VALUE=DATE-TIME:20230326T030000
TZNAME:CEST
TZOFFSETFROM:+0100
TZOFFSETTO:+0200
END:DAYLIGHT
END:VTIMEZONE
END:VCALENDAR
