BEGIN:VCALENDAR
VERSION:2.0
PRODID:-//Plone.org//NONSGML plone.app.event//EN
X-WR-TIMEZONE:Europe/Paris
BEGIN:VEVENT
SUMMARY:Concert Chorale LACADENTIA
DTSTART;TZID=Europe/Paris;VALUE=DATE-TIME:20231014T170000
DTSTAMP;VALUE=DATE-TIME:20260422T110609Z
UID:413ddcf656124cf8a8e16468d99c077d@www.yonne.catholique.fr
CONTACT:https://www.yonne.catholique.fr/saint-luc/mediatheque/documents-a-
 telecharger/affiche-concert-a-pourrain-2023.pdf/view
CREATED;VALUE=DATE-TIME:20231013T145005Z
DESCRIPTION:Concert Direction Anne LE GOFF\n\nAu profil de LACIM TOUCY\n\n
 Participation libre
LAST-MODIFIED;VALUE=DATE-TIME:20250705T140509Z
LOCATION:ÉGLISE DE POURRAIN
URL:https://www.yonne.catholique.fr/saint-luc/COMMUNICATION/agenda/concert
 -chorale-lacadentia
END:VEVENT
BEGIN:VTIMEZONE
TZID:Europe/Paris
X-LIC-LOCATION:Europe/Paris
BEGIN:DAYLIGHT
DTSTART;VALUE=DATE-TIME:20230326T030000
TZNAME:CEST
TZOFFSETFROM:+0100
TZOFFSETTO:+0200
END:DAYLIGHT
END:VTIMEZONE
END:VCALENDAR
