BEGIN:VCALENDAR
VERSION:2.0
PRODID:-//Plone.org//NONSGML plone.app.event//EN
X-WR-TIMEZONE:Europe/Paris
BEGIN:VEVENT
SUMMARY:Messe en Famille en Soirée\, Première étape liturgique de la pr
 emière des communions
DTSTART;TZID=Europe/Paris;VALUE=DATE-TIME:20241214T180000
DTEND;TZID=Europe/Paris;VALUE=DATE-TIME:20241214T193000
DTSTAMP;VALUE=DATE-TIME:20260424T113531Z
UID:0240f684a1be4987a35734febb8e1ed5@www.yonne.catholique.fr
CONTACT:Jérôme Pinot\, 0614378225\, kt.avallonnais@gmail.com
CREATED;VALUE=DATE-TIME:20241130T162316Z
LAST-MODIFIED;VALUE=DATE-TIME:20241130T162336Z
LOCATION:Saint Martin d'Avallon
URL:https://www.yonne.catholique.fr/saint-martin-avallon/actualite-paroiss
 iale/agenda/messe-en-famille-en-soiree-premiere-etape-liturgique-de-la-pre
 miere-des-communions
END:VEVENT
BEGIN:VTIMEZONE
TZID:Europe/Paris
X-LIC-LOCATION:Europe/Paris
BEGIN:STANDARD
DTSTART;VALUE=DATE-TIME:20241027T020000
TZNAME:CET
TZOFFSETFROM:+0200
TZOFFSETTO:+0100
END:STANDARD
END:VTIMEZONE
END:VCALENDAR
