BEGIN:VCALENDAR
VERSION:2.0
PRODID:-//Plone.org//NONSGML plone.app.event//EN
X-WR-TIMEZONE:Europe/Paris
BEGIN:VEVENT
SUMMARY:Bénédiction à Notre-Dame des Roches
DTSTART;TZID=Europe/Paris;VALUE=DATE-TIME:20220517T150000
DTEND;TZID=Europe/Paris;VALUE=DATE-TIME:20220517T160000
DTSTAMP;VALUE=DATE-TIME:20260420T153842Z
UID:ffca0487959349d688dc0a2d5489a8e9@www.yonne.catholique.fr
CREATED;VALUE=DATE-TIME:20220510T114258Z
DESCRIPTION:Suite à sa rénovation\, la statue de Notre Dame des Roches s
 era bénie le mardi 17 mai prochain à 15h00 par le père Joël Rignault. 
  
LAST-MODIFIED;VALUE=DATE-TIME:20220516T065014Z
LOCATION:Thorigny-sur-Oreuse
URL:https://www.yonne.catholique.fr/saint-pierre-senonais/actualite-parois
 siale/agenda/benediction-a-notre-dame-des-roches
END:VEVENT
BEGIN:VTIMEZONE
TZID:Europe/Paris
X-LIC-LOCATION:Europe/Paris
BEGIN:DAYLIGHT
DTSTART;VALUE=DATE-TIME:20220327T030000
TZNAME:CEST
TZOFFSETFROM:+0100
TZOFFSETTO:+0200
END:DAYLIGHT
END:VTIMEZONE
END:VCALENDAR
