BEGIN:VCALENDAR
VERSION:2.0
PRODID:-//Plone.org//NONSGML plone.app.event//EN
X-WR-TIMEZONE:Europe/Paris
BEGIN:VEVENT
SUMMARY:"24 h pour le Seigneur"
DTSTART;TZID=Europe/Paris;VALUE=DATE-TIME:20260320T193000
DTEND;TZID=Europe/Paris;VALUE=DATE-TIME:20260321T173000
DTSTAMP;VALUE=DATE-TIME:20260424T224101Z
UID:084de5911e3f4c70a88a183dd1f4f54c@www.yonne.catholique.fr
CATEGORIES:C,a,r,�,�,m,e
CREATED;VALUE=DATE-TIME:20260305T172738Z
DESCRIPTION: En 2016 le Pape François à été à l’initiative des « 2
 4 heures pour le Seigneur » afin de proposer aux catholiques de prendre d
 u temps pour se rapprocher du Seigneur\, les vendredi et samedi précédan
 t le quatrième dimanche de Carême. Il rappelait l’urgence de la prièr
 e par l’écoute de la Parole de Dieu. La miséricorde de Dieu est certes
  une annonce faite au monde. Cependant\, chaque chrétien est appelé à e
 n faire l’expérience personnellement.\n\n Venez passer un moment avec l
 e Seigneur \, 30mn...1 heure \, 2 heures ou plus selon votre envie ou votr
 e disponibilité.\n\n\n    Nous porterons particulièrement dans notre pri
 ère l’intention de prière du Pape Léon XIV du mois de mars :\n\n    
 « Prions pour que les nations s’engagent dans un désarmement effectif\
 , en particulier le désarmement nucléaire\, et que les dirigeants du mon
 de choisissent le chemin du dialogue et de la diplomatie et non celui de l
 a violence. »\n
LAST-MODIFIED;VALUE=DATE-TIME:20260310T145714Z
LOCATION:Eglise de Villeneuve sur Yonne
URL:https://www.yonne.catholique.fr/sainte-alpais/actualite-paroissiale/le
 s-annonces/24-h-pour-le-seigneur
END:VEVENT
BEGIN:VTIMEZONE
TZID:Europe/Paris
X-LIC-LOCATION:Europe/Paris
BEGIN:STANDARD
DTSTART;VALUE=DATE-TIME:20251026T020000
TZNAME:CET
TZOFFSETFROM:+0200
TZOFFSETTO:+0100
END:STANDARD
END:VTIMEZONE
END:VCALENDAR
