BEGIN:VCALENDAR
VERSION:2.0
PRODID:-//Plone.org//NONSGML plone.app.event//EN
X-WR-TIMEZONE:Europe/Paris
BEGIN:VEVENT
SUMMARY:exposition  Eglise de Rousson
DTSTART;VALUE=DATE:20240727
DTEND;VALUE=DATE:20240811
DTSTAMP;VALUE=DATE-TIME:20260420T174956Z
UID:4f43f5aa8ef64498850d830b81fa7f85@www.yonne.catholique.fr
CATEGORIES:�,�,t,�,�
CATEGORIES:P,a,r,o,i,s,s,e,s
CREATED;VALUE=DATE-TIME:20240725T082413Z
DESCRIPTION:Exposition "Douceur et Elégance" dans l'église de Rousson du
  27 juillet au 10 août
LAST-MODIFIED;VALUE=DATE-TIME:20240730T062911Z
LOCATION:Eglise de Rousson
URL:https://www.yonne.catholique.fr/sainte-alpais/actualite-paroissiale/le
 s-annonces/exposition-eglise-de-rousson-1
END:VEVENT
END:VCALENDAR
