BEGIN:VCALENDAR
VERSION:2.0
PRODID:-//Plone.org//NONSGML plone.app.event//EN
X-WR-TIMEZONE:Europe/Paris
BEGIN:VEVENT
SUMMARY:⚠ Fête des peuples - événement annulé
DTSTART;VALUE=DATE:20251017
DTEND;VALUE=DATE:20251018
DTSTAMP;VALUE=DATE-TIME:20260425T160859Z
UID:fd985d886371478b9dff6e6735c8321b@www.yonne.catholique.fr
CONTACT:Service diocésain de la Mission universelle - \, sdmu@diocese89.f
 r
CREATED;VALUE=DATE-TIME:20251001T130621Z
DESCRIPTION:Le fête des peuples prévue vendredi 17 octobre est annulée 
LAST-MODIFIED;VALUE=DATE-TIME:20251017T133348Z
URL:https://www.yonne.catholique.fr/sainte-alpais/actualite-paroissiale/le
 s-annonces/fete-des-peuples
END:VEVENT
END:VCALENDAR
