BEGIN:VCALENDAR
VERSION:2.0
PRODID:-//Plone.org//NONSGML plone.app.event//EN
X-WR-TIMEZONE:Europe/Paris
BEGIN:VEVENT
SUMMARY:Fête du doyenné du Sénonais
DTSTART;TZID=Europe/Paris;VALUE=DATE-TIME:20231007T140000
DTEND;TZID=Europe/Paris;VALUE=DATE-TIME:20231007T193000
DTSTAMP;VALUE=DATE-TIME:20260422T153837Z
UID:bd634606e014469a93446d92eb2bbef7@www.yonne.catholique.fr
CONTACT:Paroisse de Sens\, 03 86 65 06 57
CREATED;VALUE=DATE-TIME:20230831T101729Z
DESCRIPTION:De tout le Sénonais\, invités à nous retrouver à Sens pour
  cheminer\, visiter\, prier... d'église en église\, puis nous rassembler
  pour célébrer l'Eucharistie en la cathédrale
LAST-MODIFIED;VALUE=DATE-TIME:20230831T102148Z
LOCATION:Sens
URL:https://www.yonne.catholique.fr/sainte-alpais/actualite-paroissiale/le
 s-annonces/fete-du-doyenne-du-senonais
END:VEVENT
BEGIN:VTIMEZONE
TZID:Europe/Paris
X-LIC-LOCATION:Europe/Paris
BEGIN:DAYLIGHT
DTSTART;VALUE=DATE-TIME:20230326T030000
TZNAME:CEST
TZOFFSETFROM:+0100
TZOFFSETTO:+0200
END:DAYLIGHT
END:VTIMEZONE
END:VCALENDAR
