BEGIN:VCALENDAR
VERSION:2.0
PRODID:-//Plone.org//NONSGML plone.app.event//EN
X-WR-TIMEZONE:Europe/Paris
BEGIN:VEVENT
SUMMARY:Fête du pardon du Sénonais
DTSTART;TZID=Europe/Paris;VALUE=DATE-TIME:20250412T100000
DTEND;TZID=Europe/Paris;VALUE=DATE-TIME:20250412T170000
DTSTAMP;VALUE=DATE-TIME:20260420T092857Z
UID:19912636d9d141a38bd74e1b8fbb4894@www.yonne.catholique.fr
CONTACT:Paroisse de Sens\, 03 86 65 06 57
CREATED;VALUE=DATE-TIME:20250326T164024Z
LAST-MODIFIED;VALUE=DATE-TIME:20250326T164221Z
URL:https://www.yonne.catholique.fr/sainte-alpais/actualite-paroissiale/le
 s-annonces/fete-du-pardon-du-senonais
END:VEVENT
BEGIN:VTIMEZONE
TZID:Europe/Paris
X-LIC-LOCATION:Europe/Paris
BEGIN:DAYLIGHT
DTSTART;VALUE=DATE-TIME:20250330T030000
TZNAME:CEST
TZOFFSETFROM:+0100
TZOFFSETTO:+0200
END:DAYLIGHT
END:VTIMEZONE
END:VCALENDAR
