BEGIN:VCALENDAR
VERSION:2.0
PRODID:-//Plone.org//NONSGML plone.app.event//EN
X-WR-TIMEZONE:Europe/Paris
BEGIN:VEVENT
SUMMARY:Forum de la vie paroissiale
DTSTART;TZID=Europe/Paris;VALUE=DATE-TIME:20241110T113000
DTEND;TZID=Europe/Paris;VALUE=DATE-TIME:20241110T123000
DTSTAMP;VALUE=DATE-TIME:20260420T113539Z
UID:0f3ff50dce4d48dcbc4012ac9e8cfa74@www.yonne.catholique.fr
CONTACT:Père Romain
CREATED;VALUE=DATE-TIME:20241024T135201Z
DESCRIPTION:Chaque groupe de service\, de réflexion ou de prière de la p
 aroisse se\nprésentera aux paroissiens après la messe\, au fond de l'ég
 lise.
LAST-MODIFIED;VALUE=DATE-TIME:20241024T135241Z
LOCATION:Eglise de Villeneuve sur Yonne
URL:https://www.yonne.catholique.fr/sainte-alpais/actualite-paroissiale/le
 s-annonces/forum-de-la-vie-paroissiale
END:VEVENT
BEGIN:VTIMEZONE
TZID:Europe/Paris
X-LIC-LOCATION:Europe/Paris
BEGIN:STANDARD
DTSTART;VALUE=DATE-TIME:20241027T020000
TZNAME:CET
TZOFFSETFROM:+0200
TZOFFSETTO:+0100
END:STANDARD
END:VTIMEZONE
END:VCALENDAR
