BEGIN:VCALENDAR
VERSION:2.0
PRODID:-//Plone.org//NONSGML plone.app.event//EN
X-WR-TIMEZONE:Europe/Paris
BEGIN:VEVENT
SUMMARY:installation de la crêche avec l'éveil à la foi
DTSTART;TZID=Europe/Paris;VALUE=DATE-TIME:20241130T140000
DTEND;TZID=Europe/Paris;VALUE=DATE-TIME:20241130T150000
DTSTAMP;VALUE=DATE-TIME:20260420T000403Z
UID:49095e8048ec47338ef4c72dc657443e@www.yonne.catholique.fr
CONTACT:Blandine\, 0689085532
CREATED;VALUE=DATE-TIME:20241119T144916Z
DESCRIPTION:les enfants de 2 à 5 ans sont invités à venir installer la 
 crêche de l'église 
LAST-MODIFIED;VALUE=DATE-TIME:20260117T182055Z
LOCATION:Eglise de Villeneuve sur Yonne
URL:https://www.yonne.catholique.fr/sainte-alpais/actualite-paroissiale/le
 s-annonces/installation-de-la-creche-avec-leveil-a-la-foi
END:VEVENT
BEGIN:VTIMEZONE
TZID:Europe/Paris
X-LIC-LOCATION:Europe/Paris
BEGIN:STANDARD
DTSTART;VALUE=DATE-TIME:20241027T020000
TZNAME:CET
TZOFFSETFROM:+0200
TZOFFSETTO:+0100
END:STANDARD
END:VTIMEZONE
END:VCALENDAR
