BEGIN:VCALENDAR
VERSION:2.0
PRODID:-//Plone.org//NONSGML plone.app.event//EN
X-WR-TIMEZONE:Europe/Paris
BEGIN:VEVENT
SUMMARY:Prière pour l'Unité des Chrétiens
DTSTART;TZID=Europe/Paris;VALUE=DATE-TIME:20230122T160000
DTEND;TZID=Europe/Paris;VALUE=DATE-TIME:20230122T170000
DTSTAMP;VALUE=DATE-TIME:20260419T235256Z
UID:8be2ab04c802439f91109128a55f8ef4@www.yonne.catholique.fr
CONTACT:Paroisse de Villeneuve-sur-Yonne
CREATED;VALUE=DATE-TIME:20230112T091636Z
DESCRIPTION:"Apprenez à faire le bien\, recherchez la justice" (Ésaïe 1
 \,17)\n\nLors de la semaine de prière pour l'Unité des Chrétiens qui se
  déroulera du 18 au 25 janvier 2023\, les chrétiens catholiques\, protes
 tants et orthodoxes du monde entier se réuniront pour l'Unité de l'Eglis
 e.\n\nLes Chrétiens de Villeneuve animeront une soirée ouverte à tous.\
 n\n
LAST-MODIFIED;VALUE=DATE-TIME:20230216T095554Z
LOCATION:Salle Sainte Alpais\, 16 rue du Puits d'Amour
URL:https://www.yonne.catholique.fr/sainte-alpais/actualite-paroissiale/le
 s-annonces/priere-pour-lunite-des-chretiens-1
END:VEVENT
BEGIN:VTIMEZONE
TZID:Europe/Paris
X-LIC-LOCATION:Europe/Paris
BEGIN:STANDARD
DTSTART;VALUE=DATE-TIME:20221030T020000
TZNAME:CET
TZOFFSETFROM:+0200
TZOFFSETTO:+0100
END:STANDARD
END:VTIMEZONE
END:VCALENDAR
